BEGIN:VCALENDAR
VERSION:2.0
PRODID:-//FKGW - ECPv6.15.13//NONSGML v1.0//EN
CALSCALE:GREGORIAN
METHOD:PUBLISH
X-WR-CALNAME:FKGW
X-ORIGINAL-URL:https://fkgw.de
X-WR-CALDESC:Veranstaltungen für FKGW
REFRESH-INTERVAL;VALUE=DURATION:PT1H
X-Robots-Tag:noindex
X-PUBLISHED-TTL:PT1H
BEGIN:VTIMEZONE
TZID:Europe/Paris
BEGIN:DAYLIGHT
TZOFFSETFROM:+0100
TZOFFSETTO:+0200
TZNAME:CEST
DTSTART:20250330T010000
END:DAYLIGHT
BEGIN:STANDARD
TZOFFSETFROM:+0200
TZOFFSETTO:+0100
TZNAME:CET
DTSTART:20251026T010000
END:STANDARD
BEGIN:DAYLIGHT
TZOFFSETFROM:+0100
TZOFFSETTO:+0200
TZNAME:CEST
DTSTART:20260329T010000
END:DAYLIGHT
BEGIN:STANDARD
TZOFFSETFROM:+0200
TZOFFSETTO:+0100
TZNAME:CET
DTSTART:20261025T010000
END:STANDARD
BEGIN:DAYLIGHT
TZOFFSETFROM:+0100
TZOFFSETTO:+0200
TZNAME:CEST
DTSTART:20270328T010000
END:DAYLIGHT
BEGIN:STANDARD
TZOFFSETFROM:+0200
TZOFFSETTO:+0100
TZNAME:CET
DTSTART:20271031T010000
END:STANDARD
BEGIN:DAYLIGHT
TZOFFSETFROM:+0100
TZOFFSETTO:+0200
TZNAME:CEST
DTSTART:20280326T010000
END:DAYLIGHT
BEGIN:STANDARD
TZOFFSETFROM:+0200
TZOFFSETTO:+0100
TZNAME:CET
DTSTART:20281029T010000
END:STANDARD
END:VTIMEZONE
BEGIN:VEVENT
DTSTART;TZID=Europe/Paris:20261112T200000
DTEND;TZID=Europe/Paris:20261112T220000
DTSTAMP:20260424T100947
CREATED:20200811T113509Z
LAST-MODIFIED:20240317T222646Z
UID:10004024-1794513600-1794520800@fkgw.de
SUMMARY:Hauskreis: Sawadski\, Dück
DESCRIPTION:Ansprechsperson: Andreas Dück\, Viktor Sawadski\, Inhalt: Andachten
URL:https://fkgw.de/events/hauskreis-sawadski-duck/2026-11-12/
LOCATION:FKGW\, Niedinkstraße 20-24\, 48231\, Germany
CATEGORIES:Hauskreisen
GEO:51.952201297035;7.9759353715817
X-APPLE-STRUCTURED-LOCATION;VALUE=URI;X-ADDRESS=FKGW Niedinkstraße 20-24 48231 Germany;X-APPLE-RADIUS=500;X-TITLE=Niedinkstraße 20-24:geo:7.9759353715817,51.952201297035
END:VEVENT
BEGIN:VEVENT
DTSTART;TZID=Europe/Paris:20261115T110000
DTEND;TZID=Europe/Paris:20261115T123000
DTSTAMP:20260424T100947
CREATED:20230301T102456Z
LAST-MODIFIED:20260104T112128Z
UID:10006588-1794740400-1794745800@fkgw.de
SUMMARY:Gottesdienst
DESCRIPTION:Wir laden Sie herzlich zu unserem Gottesdienst\, sonntags um 11:00 Uhr\, ein! \n\n\nAlternativ kannst Du gerne den Gottesdienst in unserem Livestream verfolgen.
URL:https://fkgw.de/events/gottesdienst/2026-11-15/
LOCATION:FKGW\, Niedinkstraße 20-24\, 48231\, Germany
CATEGORIES:Gottesdienst
GEO:51.952201297035;7.9759353715817
X-APPLE-STRUCTURED-LOCATION;VALUE=URI;X-ADDRESS=FKGW Niedinkstraße 20-24 48231 Germany;X-APPLE-RADIUS=500;X-TITLE=Niedinkstraße 20-24:geo:7.9759353715817,51.952201297035
END:VEVENT
BEGIN:VEVENT
DTSTART;TZID=Europe/Paris:20261118T070000
DTEND;TZID=Europe/Paris:20261118T080000
DTSTAMP:20260424T100947
CREATED:20230301T113946Z
LAST-MODIFIED:20230427T183842Z
UID:10000722-1794985200-1794988800@fkgw.de
SUMMARY:Männergebet
DESCRIPTION:Wann Mittwochs Wöchentlich Um 7:00 Uhr Gebet In den Gemeinderäumen Ansprechperson Christian Türke
URL:https://fkgw.de/events/mannergebet/2026-11-18/
LOCATION:FKGW\, Niedinkstraße 20-24\, 48231\, Germany
CATEGORIES:Kleingruppe
GEO:51.952201297035;7.9759353715817
X-APPLE-STRUCTURED-LOCATION;VALUE=URI;X-ADDRESS=FKGW Niedinkstraße 20-24 48231 Germany;X-APPLE-RADIUS=500;X-TITLE=Niedinkstraße 20-24:geo:7.9759353715817,51.952201297035
END:VEVENT
BEGIN:VEVENT
DTSTART;TZID=Europe/Paris:20261122T110000
DTEND;TZID=Europe/Paris:20261122T123000
DTSTAMP:20260424T100947
CREATED:20230301T102456Z
LAST-MODIFIED:20260104T112128Z
UID:10006589-1795345200-1795350600@fkgw.de
SUMMARY:Gottesdienst
DESCRIPTION:Wir laden Sie herzlich zu unserem Gottesdienst\, sonntags um 11:00 Uhr\, ein! \n\n\nAlternativ kannst Du gerne den Gottesdienst in unserem Livestream verfolgen.
URL:https://fkgw.de/events/gottesdienst/2026-11-22/
LOCATION:FKGW\, Niedinkstraße 20-24\, 48231\, Germany
CATEGORIES:Gottesdienst
GEO:51.952201297035;7.9759353715817
X-APPLE-STRUCTURED-LOCATION;VALUE=URI;X-ADDRESS=FKGW Niedinkstraße 20-24 48231 Germany;X-APPLE-RADIUS=500;X-TITLE=Niedinkstraße 20-24:geo:7.9759353715817,51.952201297035
END:VEVENT
BEGIN:VEVENT
DTSTART;TZID=Europe/Paris:20261125T070000
DTEND;TZID=Europe/Paris:20261125T080000
DTSTAMP:20260424T100947
CREATED:20230301T113946Z
LAST-MODIFIED:20230427T183842Z
UID:10000723-1795590000-1795593600@fkgw.de
SUMMARY:Männergebet
DESCRIPTION:Wann Mittwochs Wöchentlich Um 7:00 Uhr Gebet In den Gemeinderäumen Ansprechperson Christian Türke
URL:https://fkgw.de/events/mannergebet/2026-11-25/
LOCATION:FKGW\, Niedinkstraße 20-24\, 48231\, Germany
CATEGORIES:Kleingruppe
GEO:51.952201297035;7.9759353715817
X-APPLE-STRUCTURED-LOCATION;VALUE=URI;X-ADDRESS=FKGW Niedinkstraße 20-24 48231 Germany;X-APPLE-RADIUS=500;X-TITLE=Niedinkstraße 20-24:geo:7.9759353715817,51.952201297035
END:VEVENT
BEGIN:VEVENT
DTSTART;TZID=Europe/Paris:20261126T200000
DTEND;TZID=Europe/Paris:20261126T220000
DTSTAMP:20260424T100947
CREATED:20200811T113509Z
LAST-MODIFIED:20240317T222646Z
UID:10004025-1795723200-1795730400@fkgw.de
SUMMARY:Hauskreis: Sawadski\, Dück
DESCRIPTION:Ansprechsperson: Andreas Dück\, Viktor Sawadski\, Inhalt: Andachten
URL:https://fkgw.de/events/hauskreis-sawadski-duck/2026-11-26/
LOCATION:FKGW\, Niedinkstraße 20-24\, 48231\, Germany
CATEGORIES:Hauskreisen
GEO:51.952201297035;7.9759353715817
X-APPLE-STRUCTURED-LOCATION;VALUE=URI;X-ADDRESS=FKGW Niedinkstraße 20-24 48231 Germany;X-APPLE-RADIUS=500;X-TITLE=Niedinkstraße 20-24:geo:7.9759353715817,51.952201297035
END:VEVENT
BEGIN:VEVENT
DTSTART;TZID=Europe/Paris:20261129T110000
DTEND;TZID=Europe/Paris:20261129T123000
DTSTAMP:20260424T100947
CREATED:20230301T102456Z
LAST-MODIFIED:20260104T112128Z
UID:10006590-1795950000-1795955400@fkgw.de
SUMMARY:Gottesdienst
DESCRIPTION:Wir laden Sie herzlich zu unserem Gottesdienst\, sonntags um 11:00 Uhr\, ein! \n\n\nAlternativ kannst Du gerne den Gottesdienst in unserem Livestream verfolgen.
URL:https://fkgw.de/events/gottesdienst/2026-11-29/
LOCATION:FKGW\, Niedinkstraße 20-24\, 48231\, Germany
CATEGORIES:Gottesdienst
GEO:51.952201297035;7.9759353715817
X-APPLE-STRUCTURED-LOCATION;VALUE=URI;X-ADDRESS=FKGW Niedinkstraße 20-24 48231 Germany;X-APPLE-RADIUS=500;X-TITLE=Niedinkstraße 20-24:geo:7.9759353715817,51.952201297035
END:VEVENT
BEGIN:VEVENT
DTSTART;TZID=Europe/Paris:20261202T070000
DTEND;TZID=Europe/Paris:20261202T080000
DTSTAMP:20260424T100947
CREATED:20230301T113946Z
LAST-MODIFIED:20230427T183842Z
UID:10000724-1796194800-1796198400@fkgw.de
SUMMARY:Männergebet
DESCRIPTION:Wann Mittwochs Wöchentlich Um 7:00 Uhr Gebet In den Gemeinderäumen Ansprechperson Christian Türke
URL:https://fkgw.de/events/mannergebet/2026-12-02/
LOCATION:FKGW\, Niedinkstraße 20-24\, 48231\, Germany
CATEGORIES:Kleingruppe
GEO:51.952201297035;7.9759353715817
X-APPLE-STRUCTURED-LOCATION;VALUE=URI;X-ADDRESS=FKGW Niedinkstraße 20-24 48231 Germany;X-APPLE-RADIUS=500;X-TITLE=Niedinkstraße 20-24:geo:7.9759353715817,51.952201297035
END:VEVENT
BEGIN:VEVENT
DTSTART;TZID=Europe/Paris:20261206T110000
DTEND;TZID=Europe/Paris:20261206T123000
DTSTAMP:20260424T100947
CREATED:20230301T102456Z
LAST-MODIFIED:20260104T112128Z
UID:10006591-1796554800-1796560200@fkgw.de
SUMMARY:Gottesdienst
DESCRIPTION:Wir laden Sie herzlich zu unserem Gottesdienst\, sonntags um 11:00 Uhr\, ein! \n\n\nAlternativ kannst Du gerne den Gottesdienst in unserem Livestream verfolgen.
URL:https://fkgw.de/events/gottesdienst/2026-12-06/
LOCATION:FKGW\, Niedinkstraße 20-24\, 48231\, Germany
CATEGORIES:Gottesdienst
GEO:51.952201297035;7.9759353715817
X-APPLE-STRUCTURED-LOCATION;VALUE=URI;X-ADDRESS=FKGW Niedinkstraße 20-24 48231 Germany;X-APPLE-RADIUS=500;X-TITLE=Niedinkstraße 20-24:geo:7.9759353715817,51.952201297035
END:VEVENT
BEGIN:VEVENT
DTSTART;TZID=Europe/Paris:20261209T070000
DTEND;TZID=Europe/Paris:20261209T080000
DTSTAMP:20260424T100948
CREATED:20230301T113946Z
LAST-MODIFIED:20230427T183842Z
UID:10000725-1796799600-1796803200@fkgw.de
SUMMARY:Männergebet
DESCRIPTION:Wann Mittwochs Wöchentlich Um 7:00 Uhr Gebet In den Gemeinderäumen Ansprechperson Christian Türke
URL:https://fkgw.de/events/mannergebet/2026-12-09/
LOCATION:FKGW\, Niedinkstraße 20-24\, 48231\, Germany
CATEGORIES:Kleingruppe
GEO:51.952201297035;7.9759353715817
X-APPLE-STRUCTURED-LOCATION;VALUE=URI;X-ADDRESS=FKGW Niedinkstraße 20-24 48231 Germany;X-APPLE-RADIUS=500;X-TITLE=Niedinkstraße 20-24:geo:7.9759353715817,51.952201297035
END:VEVENT
BEGIN:VEVENT
DTSTART;TZID=Europe/Paris:20261210T200000
DTEND;TZID=Europe/Paris:20261210T220000
DTSTAMP:20260424T100948
CREATED:20200811T113509Z
LAST-MODIFIED:20240317T222646Z
UID:10004026-1796932800-1796940000@fkgw.de
SUMMARY:Hauskreis: Sawadski\, Dück
DESCRIPTION:Ansprechsperson: Andreas Dück\, Viktor Sawadski\, Inhalt: Andachten
URL:https://fkgw.de/events/hauskreis-sawadski-duck/2026-12-10/
LOCATION:FKGW\, Niedinkstraße 20-24\, 48231\, Germany
CATEGORIES:Hauskreisen
GEO:51.952201297035;7.9759353715817
X-APPLE-STRUCTURED-LOCATION;VALUE=URI;X-ADDRESS=FKGW Niedinkstraße 20-24 48231 Germany;X-APPLE-RADIUS=500;X-TITLE=Niedinkstraße 20-24:geo:7.9759353715817,51.952201297035
END:VEVENT
BEGIN:VEVENT
DTSTART;TZID=Europe/Paris:20261213T110000
DTEND;TZID=Europe/Paris:20261213T123000
DTSTAMP:20260424T100948
CREATED:20230301T102456Z
LAST-MODIFIED:20260104T112128Z
UID:10006592-1797159600-1797165000@fkgw.de
SUMMARY:Gottesdienst
DESCRIPTION:Wir laden Sie herzlich zu unserem Gottesdienst\, sonntags um 11:00 Uhr\, ein! \n\n\nAlternativ kannst Du gerne den Gottesdienst in unserem Livestream verfolgen.
URL:https://fkgw.de/events/gottesdienst/2026-12-13/
LOCATION:FKGW\, Niedinkstraße 20-24\, 48231\, Germany
CATEGORIES:Gottesdienst
GEO:51.952201297035;7.9759353715817
X-APPLE-STRUCTURED-LOCATION;VALUE=URI;X-ADDRESS=FKGW Niedinkstraße 20-24 48231 Germany;X-APPLE-RADIUS=500;X-TITLE=Niedinkstraße 20-24:geo:7.9759353715817,51.952201297035
END:VEVENT
BEGIN:VEVENT
DTSTART;TZID=Europe/Paris:20261216T070000
DTEND;TZID=Europe/Paris:20261216T080000
DTSTAMP:20260424T100948
CREATED:20230301T113946Z
LAST-MODIFIED:20230427T183842Z
UID:10000726-1797404400-1797408000@fkgw.de
SUMMARY:Männergebet
DESCRIPTION:Wann Mittwochs Wöchentlich Um 7:00 Uhr Gebet In den Gemeinderäumen Ansprechperson Christian Türke
URL:https://fkgw.de/events/mannergebet/2026-12-16/
LOCATION:FKGW\, Niedinkstraße 20-24\, 48231\, Germany
CATEGORIES:Kleingruppe
GEO:51.952201297035;7.9759353715817
X-APPLE-STRUCTURED-LOCATION;VALUE=URI;X-ADDRESS=FKGW Niedinkstraße 20-24 48231 Germany;X-APPLE-RADIUS=500;X-TITLE=Niedinkstraße 20-24:geo:7.9759353715817,51.952201297035
END:VEVENT
BEGIN:VEVENT
DTSTART;TZID=Europe/Paris:20261220T110000
DTEND;TZID=Europe/Paris:20261220T123000
DTSTAMP:20260424T100948
CREATED:20230301T102456Z
LAST-MODIFIED:20260104T112128Z
UID:10006593-1797764400-1797769800@fkgw.de
SUMMARY:Gottesdienst
DESCRIPTION:Wir laden Sie herzlich zu unserem Gottesdienst\, sonntags um 11:00 Uhr\, ein! \n\n\nAlternativ kannst Du gerne den Gottesdienst in unserem Livestream verfolgen.
URL:https://fkgw.de/events/gottesdienst/2026-12-20/
LOCATION:FKGW\, Niedinkstraße 20-24\, 48231\, Germany
CATEGORIES:Gottesdienst
GEO:51.952201297035;7.9759353715817
X-APPLE-STRUCTURED-LOCATION;VALUE=URI;X-ADDRESS=FKGW Niedinkstraße 20-24 48231 Germany;X-APPLE-RADIUS=500;X-TITLE=Niedinkstraße 20-24:geo:7.9759353715817,51.952201297035
END:VEVENT
BEGIN:VEVENT
DTSTART;TZID=Europe/Paris:20261223T070000
DTEND;TZID=Europe/Paris:20261223T080000
DTSTAMP:20260424T100948
CREATED:20230301T113946Z
LAST-MODIFIED:20230427T183842Z
UID:10000727-1798009200-1798012800@fkgw.de
SUMMARY:Männergebet
DESCRIPTION:Wann Mittwochs Wöchentlich Um 7:00 Uhr Gebet In den Gemeinderäumen Ansprechperson Christian Türke
URL:https://fkgw.de/events/mannergebet/2026-12-23/
LOCATION:FKGW\, Niedinkstraße 20-24\, 48231\, Germany
CATEGORIES:Kleingruppe
GEO:51.952201297035;7.9759353715817
X-APPLE-STRUCTURED-LOCATION;VALUE=URI;X-ADDRESS=FKGW Niedinkstraße 20-24 48231 Germany;X-APPLE-RADIUS=500;X-TITLE=Niedinkstraße 20-24:geo:7.9759353715817,51.952201297035
END:VEVENT
BEGIN:VEVENT
DTSTART;TZID=Europe/Paris:20261224T200000
DTEND;TZID=Europe/Paris:20261224T220000
DTSTAMP:20260424T100948
CREATED:20200811T113509Z
LAST-MODIFIED:20240317T222646Z
UID:10004027-1798142400-1798149600@fkgw.de
SUMMARY:Hauskreis: Sawadski\, Dück
DESCRIPTION:Ansprechsperson: Andreas Dück\, Viktor Sawadski\, Inhalt: Andachten
URL:https://fkgw.de/events/hauskreis-sawadski-duck/2026-12-24/
LOCATION:FKGW\, Niedinkstraße 20-24\, 48231\, Germany
CATEGORIES:Hauskreisen
GEO:51.952201297035;7.9759353715817
X-APPLE-STRUCTURED-LOCATION;VALUE=URI;X-ADDRESS=FKGW Niedinkstraße 20-24 48231 Germany;X-APPLE-RADIUS=500;X-TITLE=Niedinkstraße 20-24:geo:7.9759353715817,51.952201297035
END:VEVENT
BEGIN:VEVENT
DTSTART;TZID=Europe/Paris:20261227T110000
DTEND;TZID=Europe/Paris:20261227T123000
DTSTAMP:20260424T100948
CREATED:20230301T102456Z
LAST-MODIFIED:20260104T112128Z
UID:10006594-1798369200-1798374600@fkgw.de
SUMMARY:Gottesdienst
DESCRIPTION:Wir laden Sie herzlich zu unserem Gottesdienst\, sonntags um 11:00 Uhr\, ein! \n\n\nAlternativ kannst Du gerne den Gottesdienst in unserem Livestream verfolgen.
URL:https://fkgw.de/events/gottesdienst/2026-12-27/
LOCATION:FKGW\, Niedinkstraße 20-24\, 48231\, Germany
CATEGORIES:Gottesdienst
GEO:51.952201297035;7.9759353715817
X-APPLE-STRUCTURED-LOCATION;VALUE=URI;X-ADDRESS=FKGW Niedinkstraße 20-24 48231 Germany;X-APPLE-RADIUS=500;X-TITLE=Niedinkstraße 20-24:geo:7.9759353715817,51.952201297035
END:VEVENT
BEGIN:VEVENT
DTSTART;TZID=Europe/Paris:20261230T070000
DTEND;TZID=Europe/Paris:20261230T080000
DTSTAMP:20260424T100948
CREATED:20230301T113946Z
LAST-MODIFIED:20230427T183842Z
UID:10000728-1798614000-1798617600@fkgw.de
SUMMARY:Männergebet
DESCRIPTION:Wann Mittwochs Wöchentlich Um 7:00 Uhr Gebet In den Gemeinderäumen Ansprechperson Christian Türke
URL:https://fkgw.de/events/mannergebet/2026-12-30/
LOCATION:FKGW\, Niedinkstraße 20-24\, 48231\, Germany
CATEGORIES:Kleingruppe
GEO:51.952201297035;7.9759353715817
X-APPLE-STRUCTURED-LOCATION;VALUE=URI;X-ADDRESS=FKGW Niedinkstraße 20-24 48231 Germany;X-APPLE-RADIUS=500;X-TITLE=Niedinkstraße 20-24:geo:7.9759353715817,51.952201297035
END:VEVENT
BEGIN:VEVENT
DTSTART;TZID=Europe/Paris:20270103T110000
DTEND;TZID=Europe/Paris:20270103T123000
DTSTAMP:20260424T100948
CREATED:20230301T102456Z
LAST-MODIFIED:20260104T112128Z
UID:10006595-1798974000-1798979400@fkgw.de
SUMMARY:Gottesdienst
DESCRIPTION:Wir laden Sie herzlich zu unserem Gottesdienst\, sonntags um 11:00 Uhr\, ein! \n\n\nAlternativ kannst Du gerne den Gottesdienst in unserem Livestream verfolgen.
URL:https://fkgw.de/events/gottesdienst/2027-01-03/
LOCATION:FKGW\, Niedinkstraße 20-24\, 48231\, Germany
CATEGORIES:Gottesdienst
GEO:51.952201297035;7.9759353715817
X-APPLE-STRUCTURED-LOCATION;VALUE=URI;X-ADDRESS=FKGW Niedinkstraße 20-24 48231 Germany;X-APPLE-RADIUS=500;X-TITLE=Niedinkstraße 20-24:geo:7.9759353715817,51.952201297035
END:VEVENT
BEGIN:VEVENT
DTSTART;TZID=Europe/Paris:20270106T070000
DTEND;TZID=Europe/Paris:20270106T080000
DTSTAMP:20260424T100948
CREATED:20230301T113946Z
LAST-MODIFIED:20230427T183842Z
UID:10000729-1799218800-1799222400@fkgw.de
SUMMARY:Männergebet
DESCRIPTION:Wann Mittwochs Wöchentlich Um 7:00 Uhr Gebet In den Gemeinderäumen Ansprechperson Christian Türke
URL:https://fkgw.de/events/mannergebet/2027-01-06/
LOCATION:FKGW\, Niedinkstraße 20-24\, 48231\, Germany
CATEGORIES:Kleingruppe
GEO:51.952201297035;7.9759353715817
X-APPLE-STRUCTURED-LOCATION;VALUE=URI;X-ADDRESS=FKGW Niedinkstraße 20-24 48231 Germany;X-APPLE-RADIUS=500;X-TITLE=Niedinkstraße 20-24:geo:7.9759353715817,51.952201297035
END:VEVENT
BEGIN:VEVENT
DTSTART;TZID=Europe/Paris:20270107T200000
DTEND;TZID=Europe/Paris:20270107T220000
DTSTAMP:20260424T100948
CREATED:20200811T113509Z
LAST-MODIFIED:20240317T222646Z
UID:10004028-1799352000-1799359200@fkgw.de
SUMMARY:Hauskreis: Sawadski\, Dück
DESCRIPTION:Ansprechsperson: Andreas Dück\, Viktor Sawadski\, Inhalt: Andachten
URL:https://fkgw.de/events/hauskreis-sawadski-duck/2027-01-07/
LOCATION:FKGW\, Niedinkstraße 20-24\, 48231\, Germany
CATEGORIES:Hauskreisen
GEO:51.952201297035;7.9759353715817
X-APPLE-STRUCTURED-LOCATION;VALUE=URI;X-ADDRESS=FKGW Niedinkstraße 20-24 48231 Germany;X-APPLE-RADIUS=500;X-TITLE=Niedinkstraße 20-24:geo:7.9759353715817,51.952201297035
END:VEVENT
BEGIN:VEVENT
DTSTART;TZID=Europe/Paris:20270110T110000
DTEND;TZID=Europe/Paris:20270110T123000
DTSTAMP:20260424T100948
CREATED:20230301T102456Z
LAST-MODIFIED:20260104T112128Z
UID:10006596-1799578800-1799584200@fkgw.de
SUMMARY:Gottesdienst
DESCRIPTION:Wir laden Sie herzlich zu unserem Gottesdienst\, sonntags um 11:00 Uhr\, ein! \n\n\nAlternativ kannst Du gerne den Gottesdienst in unserem Livestream verfolgen.
URL:https://fkgw.de/events/gottesdienst/2027-01-10/
LOCATION:FKGW\, Niedinkstraße 20-24\, 48231\, Germany
CATEGORIES:Gottesdienst
GEO:51.952201297035;7.9759353715817
X-APPLE-STRUCTURED-LOCATION;VALUE=URI;X-ADDRESS=FKGW Niedinkstraße 20-24 48231 Germany;X-APPLE-RADIUS=500;X-TITLE=Niedinkstraße 20-24:geo:7.9759353715817,51.952201297035
END:VEVENT
BEGIN:VEVENT
DTSTART;TZID=Europe/Paris:20270113T070000
DTEND;TZID=Europe/Paris:20270113T080000
DTSTAMP:20260424T100948
CREATED:20230301T113946Z
LAST-MODIFIED:20230427T183842Z
UID:10000730-1799823600-1799827200@fkgw.de
SUMMARY:Männergebet
DESCRIPTION:Wann Mittwochs Wöchentlich Um 7:00 Uhr Gebet In den Gemeinderäumen Ansprechperson Christian Türke
URL:https://fkgw.de/events/mannergebet/2027-01-13/
LOCATION:FKGW\, Niedinkstraße 20-24\, 48231\, Germany
CATEGORIES:Kleingruppe
GEO:51.952201297035;7.9759353715817
X-APPLE-STRUCTURED-LOCATION;VALUE=URI;X-ADDRESS=FKGW Niedinkstraße 20-24 48231 Germany;X-APPLE-RADIUS=500;X-TITLE=Niedinkstraße 20-24:geo:7.9759353715817,51.952201297035
END:VEVENT
BEGIN:VEVENT
DTSTART;TZID=Europe/Paris:20270117T110000
DTEND;TZID=Europe/Paris:20270117T123000
DTSTAMP:20260424T100948
CREATED:20230301T102456Z
LAST-MODIFIED:20260104T112128Z
UID:10006597-1800183600-1800189000@fkgw.de
SUMMARY:Gottesdienst
DESCRIPTION:Wir laden Sie herzlich zu unserem Gottesdienst\, sonntags um 11:00 Uhr\, ein! \n\n\nAlternativ kannst Du gerne den Gottesdienst in unserem Livestream verfolgen.
URL:https://fkgw.de/events/gottesdienst/2027-01-17/
LOCATION:FKGW\, Niedinkstraße 20-24\, 48231\, Germany
CATEGORIES:Gottesdienst
GEO:51.952201297035;7.9759353715817
X-APPLE-STRUCTURED-LOCATION;VALUE=URI;X-ADDRESS=FKGW Niedinkstraße 20-24 48231 Germany;X-APPLE-RADIUS=500;X-TITLE=Niedinkstraße 20-24:geo:7.9759353715817,51.952201297035
END:VEVENT
BEGIN:VEVENT
DTSTART;TZID=Europe/Paris:20270120T070000
DTEND;TZID=Europe/Paris:20270120T080000
DTSTAMP:20260424T100948
CREATED:20230301T113946Z
LAST-MODIFIED:20230427T183842Z
UID:10000731-1800428400-1800432000@fkgw.de
SUMMARY:Männergebet
DESCRIPTION:Wann Mittwochs Wöchentlich Um 7:00 Uhr Gebet In den Gemeinderäumen Ansprechperson Christian Türke
URL:https://fkgw.de/events/mannergebet/2027-01-20/
LOCATION:FKGW\, Niedinkstraße 20-24\, 48231\, Germany
CATEGORIES:Kleingruppe
GEO:51.952201297035;7.9759353715817
X-APPLE-STRUCTURED-LOCATION;VALUE=URI;X-ADDRESS=FKGW Niedinkstraße 20-24 48231 Germany;X-APPLE-RADIUS=500;X-TITLE=Niedinkstraße 20-24:geo:7.9759353715817,51.952201297035
END:VEVENT
BEGIN:VEVENT
DTSTART;TZID=Europe/Paris:20270121T200000
DTEND;TZID=Europe/Paris:20270121T220000
DTSTAMP:20260424T100948
CREATED:20200811T113509Z
LAST-MODIFIED:20240317T222646Z
UID:10004029-1800561600-1800568800@fkgw.de
SUMMARY:Hauskreis: Sawadski\, Dück
DESCRIPTION:Ansprechsperson: Andreas Dück\, Viktor Sawadski\, Inhalt: Andachten
URL:https://fkgw.de/events/hauskreis-sawadski-duck/2027-01-21/
LOCATION:FKGW\, Niedinkstraße 20-24\, 48231\, Germany
CATEGORIES:Hauskreisen
GEO:51.952201297035;7.9759353715817
X-APPLE-STRUCTURED-LOCATION;VALUE=URI;X-ADDRESS=FKGW Niedinkstraße 20-24 48231 Germany;X-APPLE-RADIUS=500;X-TITLE=Niedinkstraße 20-24:geo:7.9759353715817,51.952201297035
END:VEVENT
BEGIN:VEVENT
DTSTART;TZID=Europe/Paris:20270124T110000
DTEND;TZID=Europe/Paris:20270124T123000
DTSTAMP:20260424T100948
CREATED:20230301T102456Z
LAST-MODIFIED:20260104T112128Z
UID:10006598-1800788400-1800793800@fkgw.de
SUMMARY:Gottesdienst
DESCRIPTION:Wir laden Sie herzlich zu unserem Gottesdienst\, sonntags um 11:00 Uhr\, ein! \n\n\nAlternativ kannst Du gerne den Gottesdienst in unserem Livestream verfolgen.
URL:https://fkgw.de/events/gottesdienst/2027-01-24/
LOCATION:FKGW\, Niedinkstraße 20-24\, 48231\, Germany
CATEGORIES:Gottesdienst
GEO:51.952201297035;7.9759353715817
X-APPLE-STRUCTURED-LOCATION;VALUE=URI;X-ADDRESS=FKGW Niedinkstraße 20-24 48231 Germany;X-APPLE-RADIUS=500;X-TITLE=Niedinkstraße 20-24:geo:7.9759353715817,51.952201297035
END:VEVENT
BEGIN:VEVENT
DTSTART;TZID=Europe/Paris:20270127T070000
DTEND;TZID=Europe/Paris:20270127T080000
DTSTAMP:20260424T100948
CREATED:20230301T113946Z
LAST-MODIFIED:20230427T183842Z
UID:10000732-1801033200-1801036800@fkgw.de
SUMMARY:Männergebet
DESCRIPTION:Wann Mittwochs Wöchentlich Um 7:00 Uhr Gebet In den Gemeinderäumen Ansprechperson Christian Türke
URL:https://fkgw.de/events/mannergebet/2027-01-27/
LOCATION:FKGW\, Niedinkstraße 20-24\, 48231\, Germany
CATEGORIES:Kleingruppe
GEO:51.952201297035;7.9759353715817
X-APPLE-STRUCTURED-LOCATION;VALUE=URI;X-ADDRESS=FKGW Niedinkstraße 20-24 48231 Germany;X-APPLE-RADIUS=500;X-TITLE=Niedinkstraße 20-24:geo:7.9759353715817,51.952201297035
END:VEVENT
BEGIN:VEVENT
DTSTART;TZID=Europe/Paris:20270131T110000
DTEND;TZID=Europe/Paris:20270131T123000
DTSTAMP:20260424T100948
CREATED:20230301T102456Z
LAST-MODIFIED:20260104T112128Z
UID:10006599-1801393200-1801398600@fkgw.de
SUMMARY:Gottesdienst
DESCRIPTION:Wir laden Sie herzlich zu unserem Gottesdienst\, sonntags um 11:00 Uhr\, ein! \n\n\nAlternativ kannst Du gerne den Gottesdienst in unserem Livestream verfolgen.
URL:https://fkgw.de/events/gottesdienst/2027-01-31/
LOCATION:FKGW\, Niedinkstraße 20-24\, 48231\, Germany
CATEGORIES:Gottesdienst
GEO:51.952201297035;7.9759353715817
X-APPLE-STRUCTURED-LOCATION;VALUE=URI;X-ADDRESS=FKGW Niedinkstraße 20-24 48231 Germany;X-APPLE-RADIUS=500;X-TITLE=Niedinkstraße 20-24:geo:7.9759353715817,51.952201297035
END:VEVENT
BEGIN:VEVENT
DTSTART;TZID=Europe/Paris:20270203T070000
DTEND;TZID=Europe/Paris:20270203T080000
DTSTAMP:20260424T100948
CREATED:20230301T113946Z
LAST-MODIFIED:20230427T183842Z
UID:10000733-1801638000-1801641600@fkgw.de
SUMMARY:Männergebet
DESCRIPTION:Wann Mittwochs Wöchentlich Um 7:00 Uhr Gebet In den Gemeinderäumen Ansprechperson Christian Türke
URL:https://fkgw.de/events/mannergebet/2027-02-03/
LOCATION:FKGW\, Niedinkstraße 20-24\, 48231\, Germany
CATEGORIES:Kleingruppe
GEO:51.952201297035;7.9759353715817
X-APPLE-STRUCTURED-LOCATION;VALUE=URI;X-ADDRESS=FKGW Niedinkstraße 20-24 48231 Germany;X-APPLE-RADIUS=500;X-TITLE=Niedinkstraße 20-24:geo:7.9759353715817,51.952201297035
END:VEVENT
END:VCALENDAR